BEGIN:VCALENDAR
VERSION:2.0
PRODID:-//adri blue nova - ECPv6.15.20//NONSGML v1.0//EN
CALSCALE:GREGORIAN
METHOD:PUBLISH
X-WR-CALNAME:adri blue nova
X-ORIGINAL-URL:https://adribluenova.com
X-WR-CALDESC:Veranstaltungen für adri blue nova
REFRESH-INTERVAL;VALUE=DURATION:PT1H
X-Robots-Tag:noindex
X-PUBLISHED-TTL:PT1H
BEGIN:VTIMEZONE
TZID:Europe/Berlin
BEGIN:DAYLIGHT
TZOFFSETFROM:+0100
TZOFFSETTO:+0200
TZNAME:CEST
DTSTART:20250330T010000
END:DAYLIGHT
BEGIN:STANDARD
TZOFFSETFROM:+0200
TZOFFSETTO:+0100
TZNAME:CET
DTSTART:20251026T010000
END:STANDARD
BEGIN:DAYLIGHT
TZOFFSETFROM:+0100
TZOFFSETTO:+0200
TZNAME:CEST
DTSTART:20260329T010000
END:DAYLIGHT
BEGIN:STANDARD
TZOFFSETFROM:+0200
TZOFFSETTO:+0100
TZNAME:CET
DTSTART:20261025T010000
END:STANDARD
BEGIN:DAYLIGHT
TZOFFSETFROM:+0100
TZOFFSETTO:+0200
TZNAME:CEST
DTSTART:20270328T010000
END:DAYLIGHT
BEGIN:STANDARD
TZOFFSETFROM:+0200
TZOFFSETTO:+0100
TZNAME:CET
DTSTART:20271031T010000
END:STANDARD
END:VTIMEZONE
BEGIN:VEVENT
DTSTART;VALUE=DATE:20260424
DTEND;VALUE=DATE:20260426
DTSTAMP:20260424T031541
CREATED:20260422T134448Z
LAST-MODIFIED:20260422T135904Z
UID:10857-1776988800-1777161599@adribluenova.com
SUMMARY:Tag der Streuobstwiesen 2026 bei Widemann in Bermatingen-Ahausen
DESCRIPTION:Die Bodensee-Kelterei Widemann öffnet am 24. und 25. April 2026 ihre Türen in Bermatingen-Ahausen\, um gemeinsam mit Besuchern den „Tag der Streuobstwiesen“ zu feiern. Das Event bietet eine spannende Mischung aus Fachwissen\, kulinarischen Highlights und Einblicken in die regionale Saftherstellung. \nExpertenwissen und Streuobst-Kulinarik\nIm Fokus der Veranstaltung steht der Erhalt unserer Kulturlandschaft. Das Landwirtschaftsamt bereichert das Programm am Freitag mit zwei Fachvorträgen zum Thema Baumschnitt (14:00 und 16:00 Uhr). Zudem erhalten Interessierte wertvolle Informationen zur Bio-Zertifizierung und zum Bezug von Streuobstbäumen. Wer den Geschmack der Region direkt erleben möchte\, kann sich auf eine exklusive Verkostung der heimischen Streuobstsäfte freuen. Für das leibliche Wohl sorgen ein Grillwagen sowie Kaffee und Kuchen\, bereitgestellt durch den Kindergarten Ahausen und den Narrenverein Mostobst. \nKarriere und exklusive Angebote\nNeben ökologischen Themen präsentiert die Kelterei Informationen zu offenen Stellen und Ausbildungsberufen. Besucher profitieren zudem von einem attraktiven Rabatt: An beiden Tagen gewährt der Getränkemarkt 10 % Nachlass auf das Sortiment. Wer nach diesem Ausflug Lust auf weitere Entdeckungen hat\, findet hier weitere Events in der Region\, die den Veranstaltungskalender bereichern. \nTermine: \n\n\nFreitag\, 24.04.2026: 14:00 – 18:00 Uhr \n\n\nSamstag\, 25.04.2026: 09:00 – 13:00 Uhr \n\n\nOrt: Heiligenbergstr. 12\, 88697 Bermatingen-Ahausen
URL:https://adribluenova.com/event/tag-der-streuobstwiesen-2026-widemann-bermatingen-ahausen/
LOCATION:Bermatingen\, 88687\, Bermatingen\, Germany
CATEGORIES:Events in Baden-Württemberg,Genuss & Kulinarik Veranstaltung,Veranstaltungen für Familien
END:VEVENT
END:VCALENDAR