BEGIN:VCALENDAR
VERSION:2.0
PRODID:-//adri blue nova - ECPv6.15.20//NONSGML v1.0//EN
CALSCALE:GREGORIAN
METHOD:PUBLISH
X-WR-CALNAME:adri blue nova
X-ORIGINAL-URL:https://adribluenova.com
X-WR-CALDESC:Veranstaltungen für adri blue nova
REFRESH-INTERVAL;VALUE=DURATION:PT1H
X-Robots-Tag:noindex
X-PUBLISHED-TTL:PT1H
BEGIN:VTIMEZONE
TZID:Europe/Berlin
BEGIN:DAYLIGHT
TZOFFSETFROM:+0100
TZOFFSETTO:+0200
TZNAME:CEST
DTSTART:20250330T010000
END:DAYLIGHT
BEGIN:STANDARD
TZOFFSETFROM:+0200
TZOFFSETTO:+0100
TZNAME:CET
DTSTART:20251026T010000
END:STANDARD
BEGIN:DAYLIGHT
TZOFFSETFROM:+0100
TZOFFSETTO:+0200
TZNAME:CEST
DTSTART:20260329T010000
END:DAYLIGHT
BEGIN:STANDARD
TZOFFSETFROM:+0200
TZOFFSETTO:+0100
TZNAME:CET
DTSTART:20261025T010000
END:STANDARD
BEGIN:DAYLIGHT
TZOFFSETFROM:+0100
TZOFFSETTO:+0200
TZNAME:CEST
DTSTART:20270328T010000
END:DAYLIGHT
BEGIN:STANDARD
TZOFFSETFROM:+0200
TZOFFSETTO:+0100
TZNAME:CET
DTSTART:20271031T010000
END:STANDARD
END:VTIMEZONE
BEGIN:VEVENT
DTSTART;VALUE=DATE:20260501
DTEND;VALUE=DATE:20260502
DTSTAMP:20260420T142127
CREATED:20260212T183209Z
LAST-MODIFIED:20260212T183209Z
UID:9931-1777593600-1777679999@adribluenova.com
SUMMARY:Coppa-di-Insalata 2026: Oldtimer-Saisonstart am Bodensee
DESCRIPTION:Am 1. Mai 2026 läutet das Oldtimerland Bodensee mit der legendären Coppa-di-Insalata die neue Saison ein. Die Ein-Tages-Jedermannrallye startet am Zollhaus in Ludwigshafen und führt Teilnehmer auf den schönsten Routen rund um den See. Trotz des charmant-fehlerhaften Namens – korrekt wäre eigentlich „Copa d’insalata“ – bleibt die „Salatschüssel-Rallye“ ihrem Kultstatus treu. Verfolgen Sie den Social Media Auftritt des Oldtimerland Bodensee\, um keine Neuigkeiten zur Coppa-di-Insalata zu verpassen. \nDas Rundum-Paket für Klassiker-Freunde bei der Ein-Tages-Rayyle Coppa-di-Insalata 2026\nTeilnehmer erwartet ein perfekt organisiertes Erlebnis: Neben einem gemeinsamen Frühstück und Mittagessen umfasst das Paket ein präzises Roadbook sowie spannende Wertungsprüfungen inklusive professioneller Auswertung. Am Ende des Tages winken den Siegern wohlverdiente Preise und Pokale. Die Teilnahmegebühr beträgt 100 € pro Person (200 € pro Team). Wer Lust auf sportliche Nostalgie hat\, findet hier weitere spannende Youngtimer- und Oldtimer-Treffen. Entdecken Sie zudem weitere Events in der Region direkt in unserem Kalender. Details zur Anmeldung gibt es beim Veranstalter Oldtimerland Bodensee.
URL:https://adribluenova.com/event/coppa-di-insalata-2026-oldtimer-bodensee/
LOCATION:Ludwigshafen\, Ludwigshafen am Bodensee\, 78351\, Germany
CATEGORIES:Youngtimer & Oldtimer Treffen / Motorsport Veranstaltungen
END:VEVENT
END:VCALENDAR