BEGIN:VCALENDAR
VERSION:2.0
PRODID:-//adri blue nova - ECPv6.15.20//NONSGML v1.0//EN
CALSCALE:GREGORIAN
METHOD:PUBLISH
X-ORIGINAL-URL:https://adribluenova.com
X-WR-CALDESC:Veranstaltungen für adri blue nova
REFRESH-INTERVAL;VALUE=DURATION:PT1H
X-Robots-Tag:noindex
X-PUBLISHED-TTL:PT1H
BEGIN:VTIMEZONE
TZID:Europe/Berlin
BEGIN:DAYLIGHT
TZOFFSETFROM:+0100
TZOFFSETTO:+0200
TZNAME:CEST
DTSTART:20250330T010000
END:DAYLIGHT
BEGIN:STANDARD
TZOFFSETFROM:+0200
TZOFFSETTO:+0100
TZNAME:CET
DTSTART:20251026T010000
END:STANDARD
BEGIN:DAYLIGHT
TZOFFSETFROM:+0100
TZOFFSETTO:+0200
TZNAME:CEST
DTSTART:20260329T010000
END:DAYLIGHT
BEGIN:STANDARD
TZOFFSETFROM:+0200
TZOFFSETTO:+0100
TZNAME:CET
DTSTART:20261025T010000
END:STANDARD
BEGIN:DAYLIGHT
TZOFFSETFROM:+0100
TZOFFSETTO:+0200
TZNAME:CEST
DTSTART:20270328T010000
END:DAYLIGHT
BEGIN:STANDARD
TZOFFSETFROM:+0200
TZOFFSETTO:+0100
TZNAME:CET
DTSTART:20271031T010000
END:STANDARD
END:VTIMEZONE
BEGIN:VEVENT
DTSTART;VALUE=DATE:20260430
DTEND;VALUE=DATE:20260504
DTSTAMP:20260421T062119
CREATED:20260219T125311Z
LAST-MODIFIED:20260401T142247Z
UID:10124-1777507200-1777852799@adribluenova.com
SUMMARY:Termin Blütenfest Oberteuringen 2026
DESCRIPTION:Vom 30. April bis zum 03. Mai 2026 verwandelt sich der Festplatz am Stadion in einen Treffpunkt für alle Freunde gepflegter Blasmusik und geselliger Stunden. Der Musikverein Oberteuringen e.V. lädt zum traditionellen Blütenfest Oberteuringen ein\, das fest im regionalen Terminkalender verankert ist. Besucher dürfen sich auf viertägige Feierlichkeiten freuen\, die ganz im Zeichen der Gemeinschaft und der blühenden Natur stehen. \n\nBlütenfest Oberteuringen – ein Highlight für Musikfreunde und Familien\nDas Programm des Blütenfest Oberteuringen bietet Unterhaltung für jede Altersgruppe. Während die musikalischen Darbietungen des Musikvereins für die passende Stimmung im Festzelt sorgen\, lädt das weitläufige Gelände zum Verweilen und Genießen ein. Da die Veranstaltung ganztägig stattfindet\, ist sie das ideale Ziel für einen Familienausflug oder einen Halt während einer Radtour durch das Hinterland. \nWer gezielt nach weiteren Veranstaltungen in Oberteuringen sucht\, findet hier die perfekte Mischung aus Tradition und Lebensfreude. Das Blütenfest markiert den idealen Start in die warme Jahreszeit und bietet die Gelegenheit\, lokale Kultur hautnah zu erleben. Für alle\, die noch mehr Lust auf Abwechslung haben\, gibt es zudem viele weitere Events in der Region zu entdecken. Kommen Sie vorbei und feiern Sie den Frühling in bester Gesellschaft! \n\n\nHäufig gestellte Fragen zum Blütenfest Oberteuringen 2026\n\n\n\n\n\nWann findet das Blütenfest in Oberteuringen 2026 statt?\n\n\nDas Blütenfest Oberteuringen 2026 findet vom 30. April bis zum 3. Mai 2026 statt. Die viertägige Veranstaltung des Musikvereins Oberteuringen e.V. bietet an allen Tagen ganztägige Unterhaltung mit Blasmusik und geselligem Beisammensein auf dem Festplatz am Stadion in Oberteuringen. \n\n\n\n\nWo wird das Blütenfest Oberteuringen veranstaltet?\n\n\nDas Blütenfest findet auf dem Festplatz am Stadion in Oberteuringen (88094) statt. Das weitläufige Gelände bietet ausreichend Platz für Familien\, Musikfreunde und Besucher aus der gesamten Bodensee-Region und ist gut mit dem Fahrrad oder Auto erreichbar. \n\n\n\n\nFür wen eignet sich das Blütenfest Oberteuringen?\n\n\nDas Blütenfest Oberteuringen richtet sich an Musikfreunde\, Familien und alle\, die traditionelle Blasmusik und regionale Festkultur schätzen. Dank der ganztägigen Veranstaltung und des familienfreundlichen Charakters ist das Fest ein ideales Ausflugsziel für Besucher aus Oberteuringen\, dem Bodenseekreis und ganz Oberschwaben.
URL:https://adribluenova.com/event/bluetenfest-oberteuringen-2026/
LOCATION:Oberteuringen\, Oberteuringen\, 88094\, Germany
CATEGORIES:Musik, Festival & Open Air Konzert,Stadtfest,Veranstaltungen für Familien
END:VEVENT
END:VCALENDAR